BEGIN:VCALENDAR
VERSION:2.0
PRODID:-//Plone.org//NONSGML plone.app.event//EN
X-WR-TIMEZONE:Europe/Madrid
BEGIN:VEVENT
SUMMARY:CapdeJove. Micro obert amb ImproBarcelona
DTSTART;TZID=Europe/Madrid;VALUE=DATE-TIME:20180720T210000
DTEND;TZID=Europe/Madrid;VALUE=DATE-TIME:20180720T220000
DTSTAMP;VALUE=DATE-TIME:20260423T111536Z
UID:6c737fffcc74634eead777de68046acd
CREATED;VALUE=DATE-TIME:20180720T000000Z
CATEGORIES:
LOCATION:Antigues Escoles Fabra - Avinguda Ferran Fabra, 1 08328
ORGANIZER:Ajuntament d'Alella
URL:https://alella.cat/document.php?id=9965
END:VEVENT
END:VCALENDAR