BEGIN:VCALENDAR
VERSION:2.0
PRODID:-//Plone.org//NONSGML plone.app.event//EN
X-WR-TIMEZONE:Europe/Madrid
BEGIN:VEVENT
SUMMARY:CapdeJove. Concert de Paula Grande
DTSTART;TZID=Europe/Madrid;VALUE=DATE-TIME:20180720T190000
DTEND;TZID=Europe/Madrid;VALUE=DATE-TIME:20180720T200000
DTSTAMP;VALUE=DATE-TIME:20260424T151354Z
UID:2cbfec0de2f1a3aa2564f001e3aaafc7
CREATED;VALUE=DATE-TIME:20180720T000000Z
CATEGORIES:
LOCATION:Antigues Escoles Fabra - Avinguda Ferran Fabra, 1 08328
ORGANIZER:Ajuntament d'Alella
URL:https://alella.cat/document.php?id=9963
END:VEVENT
END:VCALENDAR