BEGIN:VCALENDAR
VERSION:2.0
PRODID:-//Plone.org//NONSGML plone.app.event//EN
X-WR-TIMEZONE:Europe/Madrid
BEGIN:VEVENT
SUMMARY:Festa Major de Sant Feliu 2018
DTSTART;TZID=Europe/Madrid;VALUE=DATE-TIME:20180801T000000
DTEND;TZID=Europe/Madrid;VALUE=DATE-TIME:20180801T010000
DTSTAMP;VALUE=DATE-TIME:20260426T010917Z
UID:39cf97f0790c36e6de389e76229de6fc
CREATED;VALUE=DATE-TIME:20180727T000000Z
CATEGORIES:
LOCATION:Diferents espais
ORGANIZER:Ajuntament d'Alella
URL:https://alella.cat/document.php?id=9890
END:VEVENT
END:VCALENDAR