BEGIN:VCALENDAR
VERSION:2.0
PRODID:-//Plone.org//NONSGML plone.app.event//EN
X-WR-TIMEZONE:Europe/Madrid
BEGIN:VEVENT
SUMMARY:Concert de Bas Kisjes Big Band. Festival d'Estiu
DTSTART;TZID=Europe/Madrid;VALUE=DATE-TIME:20180707T200000
DTEND;TZID=Europe/Madrid;VALUE=DATE-TIME:20180707T210000
DTSTAMP;VALUE=DATE-TIME:20260423T234918Z
UID:c8232b7be24fe40292eed7281c4d9de8
CREATED;VALUE=DATE-TIME:20180707T000000Z
CATEGORIES:Agenda institucional
LOCATION:Jardins de Cal Marquès
URL:https://alella.cat/document.php?id=9876
END:VEVENT
END:VCALENDAR