BEGIN:VCALENDAR
VERSION:2.0
PRODID:-//Plone.org//NONSGML plone.app.event//EN
X-WR-TIMEZONE:Europe/Madrid
BEGIN:VEVENT
SUMMARY:Despatx d'alcaldia
DTSTART;TZID=Europe/Madrid;VALUE=DATE-TIME:20180615T123000
DTEND;TZID=Europe/Madrid;VALUE=DATE-TIME:20180615T133000
DTSTAMP;VALUE=DATE-TIME:20260422T025141Z
UID:c73207d50abe0495f20310d40e0ce2d9
CREATED;VALUE=DATE-TIME:20180615T000000Z
CATEGORIES:Agenda institucional
LOCATION:Despatx d'alcaldia
COMMENT:Durada: De 12.30 a 14h
URL:https://alella.cat/document.php?id=9854
END:VEVENT
END:VCALENDAR