BEGIN:VCALENDAR
VERSION:2.0
PRODID:-//Plone.org//NONSGML plone.app.event//EN
X-WR-TIMEZONE:Europe/Madrid
BEGIN:VEVENT
SUMMARY:Signatura contracte SAD Fundació Germans Aymar i Puig
DTSTART;TZID=Europe/Madrid;VALUE=DATE-TIME:20180615T120000
DTEND;TZID=Europe/Madrid;VALUE=DATE-TIME:20180615T130000
DTSTAMP;VALUE=DATE-TIME:20260423T080937Z
UID:41a85edbd848528e2c35997c7c4e7add
CREATED;VALUE=DATE-TIME:20180615T000000Z
CATEGORIES:Agenda institucional
LOCATION:Despatx d'alcaldia
URL:https://alella.cat/document.php?id=9849
END:VEVENT
END:VCALENDAR