BEGIN:VCALENDAR
VERSION:2.0
PRODID:-//Plone.org//NONSGML plone.app.event//EN
X-WR-TIMEZONE:Europe/Madrid
BEGIN:VEVENT
SUMMARY:Tertúlia en primera persona. Una vida a Beirut, amb Tomàs Alcoverro
DTSTART;TZID=Europe/Madrid;VALUE=DATE-TIME:20180517T190000
DTEND;TZID=Europe/Madrid;VALUE=DATE-TIME:20180517T200000
DTSTAMP;VALUE=DATE-TIME:20260420T014458Z
UID:e536a99b7d83ee7c7583ba95d8ef0f08
CREATED;VALUE=DATE-TIME:20180517T000000Z
CATEGORIES:
LOCATION:Centre Cultural de Can Lleonart - Plaça dels Germans Lleonart, 1 08328 Alella
ORGANIZER:Ajuntament d'Alella
URL:https://alella.cat/document.php?id=9666
END:VEVENT
END:VCALENDAR