BEGIN:VCALENDAR
VERSION:2.0
PRODID:-//Plone.org//NONSGML plone.app.event//EN
X-WR-TIMEZONE:Europe/Madrid
BEGIN:VEVENT
SUMMARY:El celler d'Epictet. Visita guiada i tast de vi al Centre Enoturístic i Arqueològic de Vallmora
DTSTART;TZID=Europe/Madrid;VALUE=DATE-TIME:20180630T120000
DTEND;TZID=Europe/Madrid;VALUE=DATE-TIME:20180630T130000
DTSTAMP;VALUE=DATE-TIME:20260424T092004Z
UID:494d6d95319b477d5b7b3107f2ae84a2
CREATED;VALUE=DATE-TIME:20180401T000000Z
CATEGORIES:
LOCATION:Centre Enoturístic i Arqueològic de Vallmora - Ernest Lluch, 40. 08329 Teià
ORGANIZER:Ajuntaments d'Alella, el Masnou i Teià
URL:https://alella.cat/document.php?id=9535
END:VEVENT
END:VCALENDAR