BEGIN:VCALENDAR
VERSION:2.0
PRODID:-//Plone.org//NONSGML plone.app.event//EN
X-WR-TIMEZONE:Europe/Madrid
BEGIN:VEVENT
SUMMARY:Passejada pel Parc de la Serralada Litoral. L'Oriol, l'esquirol
DTSTART;TZID=Europe/Madrid;VALUE=DATE-TIME:20180429T100000
DTEND;TZID=Europe/Madrid;VALUE=DATE-TIME:20180429T110000
DTSTAMP;VALUE=DATE-TIME:20260422T161535Z
UID:19afb3e7ba35d9dfddc96afeec022c65
CREATED;VALUE=DATE-TIME:20180429T000000Z
CATEGORIES:
LOCATION:La Cadira del Bisbe (Premià de Dalt)
ORGANIZER:Ajuntament d'Alella
URL:https://alella.cat/document.php?id=9531
END:VEVENT
END:VCALENDAR