BEGIN:VCALENDAR
VERSION:2.0
PRODID:-//Plone.org//NONSGML plone.app.event//EN
X-WR-TIMEZONE:Europe/Madrid
BEGIN:VEVENT
SUMMARY:Itinerari guiat. Les cases senyorials d'Alella + copa de vi
DTSTART;TZID=Europe/Madrid;VALUE=DATE-TIME:20180415T100000
DTEND;TZID=Europe/Madrid;VALUE=DATE-TIME:20180415T110000
DTSTAMP;VALUE=DATE-TIME:20260425T221907Z
UID:04a90776a0c99532e10bc3c945009b8d
CREATED;VALUE=DATE-TIME:20180415T000000Z
CATEGORIES:
LOCATION:Oficina de Turisme - Riera Fosca 2. 08328 Alella
ORGANIZER:Ajuntament d'Alella
URL:https://alella.cat/document.php?id=9510
END:VEVENT
END:VCALENDAR