BEGIN:VCALENDAR
VERSION:2.0
PRODID:-//Plone.org//NONSGML plone.app.event//EN
X-WR-TIMEZONE:Europe/Madrid
BEGIN:VEVENT
SUMMARY:Festa del desè aniversari de la Llar d'Infants Municipal Els Pinyons
DTSTART;TZID=Europe/Madrid;VALUE=DATE-TIME:20180323T163000
DTEND;TZID=Europe/Madrid;VALUE=DATE-TIME:20180323T173000
DTSTAMP;VALUE=DATE-TIME:20260422T043447Z
UID:0118f96e37f785f54e8db61cecfcc5b8
CREATED;VALUE=DATE-TIME:20180323T000000Z
CATEGORIES:
LOCATION:Llar d'Infants Municipal Els Pinyons - Avinguda del Bosquet, 5
ORGANIZER:Llar d'Infant Municipal Els Pinyons
URL:https://alella.cat/document.php?id=9456
END:VEVENT
END:VCALENDAR