BEGIN:VCALENDAR
VERSION:2.0
PRODID:-//Plone.org//NONSGML plone.app.event//EN
X-WR-TIMEZONE:Europe/Madrid
BEGIN:VEVENT
SUMMARY:Toc de campanes per Santa Madrona
DTSTART;TZID=Europe/Madrid;VALUE=DATE-TIME:20180315T190000
DTEND;TZID=Europe/Madrid;VALUE=DATE-TIME:20180315T200000
DTSTAMP;VALUE=DATE-TIME:20260422T025356Z
UID:c0dae6cbd95eca515941276db8b1b0f1
CREATED;VALUE=DATE-TIME:20180315T000000Z
CATEGORIES:
LOCATION:Església Parroquial de Sant Feliu - Plaça de l'Església. 08328 Alella
ORGANIZER:Campaners d'Alella
URL:https://alella.cat/document.php?id=9445
END:VEVENT
END:VCALENDAR