BEGIN:VCALENDAR
VERSION:2.0
PRODID:-//Plone.org//NONSGML plone.app.event//EN
X-WR-TIMEZONE:Europe/Madrid
BEGIN:VEVENT
SUMMARY:Banc de sang
DTSTART;TZID=Europe/Madrid;VALUE=DATE-TIME:20180317T100000
DTEND;TZID=Europe/Madrid;VALUE=DATE-TIME:20180317T110000
DTSTAMP;VALUE=DATE-TIME:20260421T114105Z
UID:1f9ca24c9490b3baa3ef40ef9638702b
CREATED;VALUE=DATE-TIME:20180317T000000Z
CATEGORIES:
LOCATION:Centre Cultural de Can Lleonart - Plaça dels Germans Lleonart, 1 08328 Alella
ORGANIZER:Ajuntament d'Alella
COMMENT:Durada: De 10 a 14h
URL:https://alella.cat/document.php?id=9398
END:VEVENT
END:VCALENDAR