BEGIN:VCALENDAR
VERSION:2.0
PRODID:-//Plone.org//NONSGML plone.app.event//EN
X-WR-TIMEZONE:Europe/Madrid
BEGIN:VEVENT
SUMMARY:Convocatòria amb gent gran. Procés participatiu sobre la urbanització de la Riera.
DTSTART;TZID=Europe/Madrid;VALUE=DATE-TIME:20180315T170000
DTEND;TZID=Europe/Madrid;VALUE=DATE-TIME:20180315T180000
DTSTAMP;VALUE=DATE-TIME:20260422T230542Z
UID:ebe32eb2846264062f6a356e4a59e02d
CREATED;VALUE=DATE-TIME:20180315T000000Z
CATEGORIES:
LOCATION:Can Gaza - Avda Sant Josep de Calassanç 23-25. 08328 Alella
ORGANIZER:Ajuntament d'Alella
URL:https://alella.cat/document.php?id=9389
END:VEVENT
END:VCALENDAR