BEGIN:VCALENDAR
VERSION:2.0
PRODID:-//Plone.org//NONSGML plone.app.event//EN
X-WR-TIMEZONE:Europe/Madrid
BEGIN:VEVENT
SUMMARY:Trobada de taekwondo
DTSTART;TZID=Europe/Madrid;VALUE=DATE-TIME:20180310T100000
DTEND;TZID=Europe/Madrid;VALUE=DATE-TIME:20180310T110000
DTSTAMP;VALUE=DATE-TIME:20260422T060439Z
UID:1a570fe7d5aeb6b8a8cd77f018ed3379
CREATED;VALUE=DATE-TIME:20180310T000000Z
CATEGORIES:
LOCATION:Pavelló d'Esports Municipal Abelardo Vera - Passeig de la Creu de Pedra, 29-31. 08328 Alella
ORGANIZER:Ajuntament d'Alella
URL:https://alella.cat/document.php?id=9359
END:VEVENT
END:VCALENDAR