BEGIN:VCALENDAR
VERSION:2.0
PRODID:-//Plone.org//NONSGML plone.app.event//EN
X-WR-TIMEZONE:Europe/Madrid
BEGIN:VEVENT
SUMMARY:Taller familiar de corones de flors
DTSTART;TZID=Europe/Madrid;VALUE=DATE-TIME:20180301T170000
DTEND;TZID=Europe/Madrid;VALUE=DATE-TIME:20180301T180000
DTSTAMP;VALUE=DATE-TIME:20260424T121850Z
UID:07cb08773724419e351e41119686af45
CREATED;VALUE=DATE-TIME:20180301T000000Z
CATEGORIES:
LOCATION:Garden Arenas
ORGANIZER:Ajuntament d'Alella
URL:https://alella.cat/document.php?id=9336
END:VEVENT
END:VCALENDAR