BEGIN:VCALENDAR
VERSION:2.0
PRODID:-//Plone.org//NONSGML plone.app.event//EN
X-WR-TIMEZONE:Europe/Madrid
BEGIN:VEVENT
SUMMARY:Taller-sopar de cuina francesa clàssica.
DTSTART;TZID=Europe/Madrid;VALUE=DATE-TIME:20180301T180000
DTEND;TZID=Europe/Madrid;VALUE=DATE-TIME:20180301T190000
DTSTAMP;VALUE=DATE-TIME:20260423T221029Z
UID:db90f6d10288f555037775ccc4958805
CREATED;VALUE=DATE-TIME:20180301T000000Z
CATEGORIES:
LOCATION:Restaurant Els Garrofers
ORGANIZER:Ajuntament d'Alella
URL:https://alella.cat/document.php?id=9335
END:VEVENT
END:VCALENDAR