BEGIN:VCALENDAR
VERSION:2.0
PRODID:-//Plone.org//NONSGML plone.app.event//EN
X-WR-TIMEZONE:Europe/Madrid
BEGIN:VEVENT
SUMMARY:Reunions de Consell de Barris
DTSTART;TZID=Europe/Madrid;VALUE=DATE-TIME:20180918T190000
DTEND;TZID=Europe/Madrid;VALUE=DATE-TIME:20180918T200000
DTSTAMP;VALUE=DATE-TIME:20260423T124726Z
UID:ca81154edd3b54ba4287d2df26e8c4b2
CREATED;VALUE=DATE-TIME:20180918T000000Z
CATEGORIES:Agenda institucional
LOCATION:Ajuntament
URL:https://alella.cat/document.php?id=9327
END:VEVENT
END:VCALENDAR