BEGIN:VCALENDAR
VERSION:2.0
PRODID:-//Plone.org//NONSGML plone.app.event//EN
X-WR-TIMEZONE:Europe/Madrid
BEGIN:VEVENT
SUMMARY:Cicle Ritmes a les golfes. Concert de Susana Sheiman & Open Gate
DTSTART;TZID=Europe/Madrid;VALUE=DATE-TIME:20180223T210000
DTEND;TZID=Europe/Madrid;VALUE=DATE-TIME:20180223T220000
DTSTAMP;VALUE=DATE-TIME:20260426T023146Z
UID:dadedaf01b63cb5febde7a827c2dafa4
CREATED;VALUE=DATE-TIME:20180223T000000Z
CATEGORIES:
LOCATION:Centre Cultural de Can Lleonart - Plaça dels Germans Lleonart, 1 08328 Alella
ORGANIZER:Ajuntament d'Alella
URL:https://alella.cat/document.php?id=9233
END:VEVENT
END:VCALENDAR