BEGIN:VCALENDAR
VERSION:2.0
PRODID:-//Plone.org//NONSGML plone.app.event//EN
X-WR-TIMEZONE:Europe/Madrid
BEGIN:VEVENT
SUMMARY:Tres Tombs
DTSTART;TZID=Europe/Madrid;VALUE=DATE-TIME:20180128T124500
DTEND;TZID=Europe/Madrid;VALUE=DATE-TIME:20180128T134500
DTSTAMP;VALUE=DATE-TIME:20260422T060354Z
UID:3b8fe9d4d72d4a6131cc8b5d915f01e6
CREATED;VALUE=DATE-TIME:20180128T000000Z
CATEGORIES:
LOCATION:Riera Principal i Plaça de l'Ajuntament - Plaça de l'Ajuntament, s/n. 08328 Alella
ORGANIZER:Associació de Trabucaires del Vi d'Alella amb el suport de l'Ajuntament
URL:https://alella.cat/document.php?id=9149
END:VEVENT
END:VCALENDAR