BEGIN:VCALENDAR
VERSION:2.0
PRODID:-//Plone.org//NONSGML plone.app.event//EN
X-WR-TIMEZONE:Europe/Madrid
BEGIN:VEVENT
SUMMARY:Junta de Govern extraordinària i pública
DTSTART;TZID=Europe/Madrid;VALUE=DATE-TIME:20180111T184500
DTEND;TZID=Europe/Madrid;VALUE=DATE-TIME:20180111T194500
DTSTAMP;VALUE=DATE-TIME:20260423T155431Z
UID:709db935ee5eb65c40e45f125cc6559a
CREATED;VALUE=DATE-TIME:20180111T000000Z
CATEGORIES:Agenda institucional
LOCATION:Sala de Plens de l'Ajuntament
URL:https://alella.cat/document.php?id=9142
END:VEVENT
END:VCALENDAR