BEGIN:VCALENDAR
VERSION:2.0
PRODID:-//Plone.org//NONSGML plone.app.event//EN
X-WR-TIMEZONE:Europe/Madrid
BEGIN:VEVENT
SUMMARY:Concert de rap. Batalla de galls i gallines
DTSTART;TZID=Europe/Madrid;VALUE=DATE-TIME:20180202T180000
DTEND;TZID=Europe/Madrid;VALUE=DATE-TIME:20180202T190000
DTSTAMP;VALUE=DATE-TIME:20260422T043432Z
UID:89eef06876a8142858e94c4bf6cdea78
CREATED;VALUE=DATE-TIME:20180202T000000Z
CATEGORIES:
LOCATION:Skate Parc - Riera Principal, s/n. 08328 Alella
ORGANIZER:Ajuntament d'Alella
URL:https://alella.cat/document.php?id=9109
END:VEVENT
END:VCALENDAR