BEGIN:VCALENDAR
VERSION:2.0
PRODID:-//Plone.org//NONSGML plone.app.event//EN
X-WR-TIMEZONE:Europe/Madrid
BEGIN:VEVENT
SUMMARY:Taller de cuina. Fogons d'Alella, amb la Montxu i la Mercè
DTSTART;TZID=Europe/Madrid;VALUE=DATE-TIME:20180131T170000
DTEND;TZID=Europe/Madrid;VALUE=DATE-TIME:20180131T180000
DTSTAMP;VALUE=DATE-TIME:20260424T094413Z
UID:fb2cb93458e3c787876e53ffdc17e0a6
CREATED;VALUE=DATE-TIME:20180131T000000Z
CATEGORIES:
LOCATION:Centre Cultural de Can Lleonart - Plaça dels Germans Lleonart, 1 08328 Alella
ORGANIZER:Ajuntament d'Alella
URL:https://alella.cat/document.php?id=9106
END:VEVENT
END:VCALENDAR