BEGIN:VCALENDAR
VERSION:2.0
PRODID:-//Plone.org//NONSGML plone.app.event//EN
X-WR-TIMEZONE:Europe/Madrid
BEGIN:VEVENT
SUMMARY:Visita guiada i tast de vi al celler romà de Vallmora
DTSTART;TZID=Europe/Madrid;VALUE=DATE-TIME:20180113T120000
DTEND;TZID=Europe/Madrid;VALUE=DATE-TIME:20180113T130000
DTSTAMP;VALUE=DATE-TIME:20260425T010630Z
UID:a3ec5254dc66f9e7fb86b3f79e462fd4
CREATED;VALUE=DATE-TIME:20180113T000000Z
CATEGORIES:
LOCATION:Centre Enoturístic i Arqueològic de Vallmora - Ernest Lluch, 40. 08329 Teià
ORGANIZER:Ajuntaments d'Alella, el Masnou i Teià
URL:https://alella.cat/document.php?id=9081
END:VEVENT
END:VCALENDAR