BEGIN:VCALENDAR
VERSION:2.0
PRODID:-//Plone.org//NONSGML plone.app.event//EN
X-WR-TIMEZONE:Europe/Madrid
BEGIN:VEVENT
SUMMARY:Taller familiar "Fem bossetes aromàtiques!"
DTSTART;TZID=Europe/Madrid;VALUE=DATE-TIME:20180107T110000
DTEND;TZID=Europe/Madrid;VALUE=DATE-TIME:20180107T120000
DTSTAMP;VALUE=DATE-TIME:20260422T010948Z
UID:d841bdc41ecd09a07d998e868de7e9b3
CREATED;VALUE=DATE-TIME:20180107T000000Z
CATEGORIES:
LOCATION:Centre Enoturístic i Arqueològic de Vallmora - Ernest Lluch, 40. 08329 Teià
ORGANIZER:Ajuntaments d'Alella, el Masnou i Teià
URL:https://alella.cat/document.php?id=9073
END:VEVENT
END:VCALENDAR