BEGIN:VCALENDAR
VERSION:2.0
PRODID:-//Plone.org//NONSGML plone.app.event//EN
X-WR-TIMEZONE:Europe/Madrid
BEGIN:VEVENT
SUMMARY:Junta de Govern Local
DTSTART;TZID=Europe/Madrid;VALUE=DATE-TIME:20171123T190000
DTEND;TZID=Europe/Madrid;VALUE=DATE-TIME:20171123T200000
DTSTAMP;VALUE=DATE-TIME:20260422T193826Z
UID:6b617ddfeac11c5114b2128242ea987e
CREATED;VALUE=DATE-TIME:20171123T000000Z
CATEGORIES:Agenda institucional
LOCATION:Sala de Juntes de l'Ajuntament
URL:https://alella.cat/document.php?id=8957
END:VEVENT
END:VCALENDAR