BEGIN:VCALENDAR
VERSION:2.0
PRODID:-//Plone.org//NONSGML plone.app.event//EN
X-WR-TIMEZONE:Europe/Madrid
BEGIN:VEVENT
SUMMARY:Xerrada. Recursos naturalistes per conèixer la geologia, els fongs, la botànica i la fauna del Parc de la Serralada Litoral
DTSTART;TZID=Europe/Madrid;VALUE=DATE-TIME:20171117T190000
DTEND;TZID=Europe/Madrid;VALUE=DATE-TIME:20171117T200000
DTSTAMP;VALUE=DATE-TIME:20260423T141857Z
UID:9cf23291f5d5a2fb67f3fa967d61db1e
CREATED;VALUE=DATE-TIME:20171117T000000Z
CATEGORIES:
LOCATION:Biblioteca Can Llaurador de Teià
ORGANIZER:Consorci del Parc de la Serralada Litoral
URL:https://alella.cat/document.php?id=8938
END:VEVENT
END:VCALENDAR