BEGIN:VCALENDAR
VERSION:2.0
PRODID:-//Plone.org//NONSGML plone.app.event//EN
X-WR-TIMEZONE:Europe/Madrid
BEGIN:VEVENT
SUMMARY:Audiència prèvia al Ple de l'Ajuntament
DTSTART;TZID=Europe/Madrid;VALUE=DATE-TIME:20171130T190000
DTEND;TZID=Europe/Madrid;VALUE=DATE-TIME:20171130T200000
DTSTAMP;VALUE=DATE-TIME:20260423T124630Z
UID:bf745535bf770385b18d9d5b525894fa
CREATED;VALUE=DATE-TIME:20171130T000000Z
CATEGORIES:Agenda institucional
LOCATION:Sala de Plens de l'Ajuntament
URL:https://alella.cat/document.php?id=8919
END:VEVENT
END:VCALENDAR