BEGIN:VCALENDAR
VERSION:2.0
PRODID:-//Plone.org//NONSGML plone.app.event//EN
X-WR-TIMEZONE:Europe/Madrid
BEGIN:VEVENT
SUMMARY:Ruta del Vi: El vi al Maresme, passat i present
DTSTART;TZID=Europe/Madrid;VALUE=DATE-TIME:20171125T110000
DTEND;TZID=Europe/Madrid;VALUE=DATE-TIME:20171125T120000
DTSTAMP;VALUE=DATE-TIME:20260424T011919Z
UID:8ae417daf6086a0d5d8af8c9360c15c9
CREATED;VALUE=DATE-TIME:20171104T000000Z
CATEGORIES:
LOCATION:Centre Enoturístic i Arqueològic de Vallmora - Ernest Lluch, 40. 08329 Teià
ORGANIZER:Ajuntaments d'Alella, el Masnou i Teià
URL:https://alella.cat/document.php?id=8864
END:VEVENT
END:VCALENDAR