BEGIN:VCALENDAR
VERSION:2.0
PRODID:-//Plone.org//NONSGML plone.app.event//EN
X-WR-TIMEZONE:Europe/Madrid
BEGIN:VEVENT
SUMMARY:Junta de Govern Local
DTSTART;TZID=Europe/Madrid;VALUE=DATE-TIME:20170921T190000
DTEND;TZID=Europe/Madrid;VALUE=DATE-TIME:20170921T200000
DTSTAMP;VALUE=DATE-TIME:20260423T185020Z
UID:cbd5c4e6eadca948e1c210db58c03954
CREATED;VALUE=DATE-TIME:20170921T000000Z
CATEGORIES:Agenda institucional
LOCATION:Sala de Juntes de l'Ajuntament
URL:https://alella.cat/document.php?id=8607
END:VEVENT
END:VCALENDAR