BEGIN:VCALENDAR
VERSION:2.0
PRODID:-//Plone.org//NONSGML plone.app.event//EN
X-WR-TIMEZONE:Europe/Madrid
BEGIN:VEVENT
SUMMARY:Festa Major. Menja't el món al nou espai Foodtrucks
DTSTART;TZID=Europe/Madrid;VALUE=DATE-TIME:20170729T193000
DTEND;TZID=Europe/Madrid;VALUE=DATE-TIME:20170729T203000
DTSTAMP;VALUE=DATE-TIME:20260422T144510Z
UID:fe278e8f2c1a6cbf4e2ec88e063fae15
CREATED;VALUE=DATE-TIME:20170729T000000Z
CATEGORIES:
LOCATION:Hort de la Rectoria
ORGANIZER:Ajuntament d'Alella
URL:https://alella.cat/document.php?id=8505
END:VEVENT
END:VCALENDAR