BEGIN:VCALENDAR
VERSION:2.0
PRODID:-//Plone.org//NONSGML plone.app.event//EN
X-WR-TIMEZONE:Europe/Madrid
BEGIN:VEVENT
SUMMARY:Festa Major de Sant Feliu
DTSTART;TZID=Europe/Madrid;VALUE=DATE-TIME:20170801T000000
DTEND;TZID=Europe/Madrid;VALUE=DATE-TIME:20170801T010000
DTSTAMP;VALUE=DATE-TIME:20260423T221014Z
UID:023d3a956b7c7c072aa11286d83cd872
CREATED;VALUE=DATE-TIME:20170721T000000Z
CATEGORIES:
LOCATION:Diferents espais
ORGANIZER:Ajuntament d'Alella
COMMENT:Durada: Del 21 de juliol a l'1 d'agost
URL:https://alella.cat/document.php?id=8426
END:VEVENT
END:VCALENDAR