BEGIN:VCALENDAR
VERSION:2.0
PRODID:-//Plone.org//NONSGML plone.app.event//EN
X-WR-TIMEZONE:Europe/Madrid
BEGIN:VEVENT
SUMMARY:Rebuda de la flama del Canigó i revetlla de Sant Joan
DTSTART;TZID=Europe/Madrid;VALUE=DATE-TIME:20170623T213000
DTEND;TZID=Europe/Madrid;VALUE=DATE-TIME:20170623T223000
DTSTAMP;VALUE=DATE-TIME:20260424T123018Z
UID:c855c424029788e721c52342cf058bc0
CREATED;VALUE=DATE-TIME:20170623T000000Z
CATEGORIES:Agenda institucional
LOCATION:Riera Principal
URL:https://alella.cat/document.php?id=8323
END:VEVENT
END:VCALENDAR