BEGIN:VCALENDAR
VERSION:2.0
PRODID:-//Plone.org//NONSGML plone.app.event//EN
X-WR-TIMEZONE:Europe/Madrid
BEGIN:VEVENT
SUMMARY:Reconeixement a una veïna centenària
DTSTART;TZID=Europe/Madrid;VALUE=DATE-TIME:20170626T120000
DTEND;TZID=Europe/Madrid;VALUE=DATE-TIME:20170626T130000
DTSTAMP;VALUE=DATE-TIME:20260421T232750Z
UID:7ccd254873cc3f977a5d1ec11bb47bdd
CREATED;VALUE=DATE-TIME:20170626T000000Z
CATEGORIES:Agenda institucional
URL:https://alella.cat/document.php?id=8321
END:VEVENT
END:VCALENDAR