BEGIN:VCALENDAR
VERSION:2.0
PRODID:-//Plone.org//NONSGML plone.app.event//EN
X-WR-TIMEZONE:Europe/Madrid
BEGIN:VEVENT
SUMMARY:Lliurament de premis del 5è Open de dòmino i 6è Open de canastra
DTSTART;TZID=Europe/Madrid;VALUE=DATE-TIME:20170523T194500
DTEND;TZID=Europe/Madrid;VALUE=DATE-TIME:20170523T204500
DTSTAMP;VALUE=DATE-TIME:20260422T010029Z
UID:bc12a253e16af55f2f38a532c09c158d
CREATED;VALUE=DATE-TIME:20170523T000000Z
CATEGORIES:Agenda institucional
LOCATION:Casal de la Gent Gran Can Gaza
URL:https://alella.cat/document.php?id=8229
END:VEVENT
END:VCALENDAR