BEGIN:VCALENDAR
VERSION:2.0
PRODID:-//Plone.org//NONSGML plone.app.event//EN
X-WR-TIMEZONE:Europe/Madrid
BEGIN:VEVENT
SUMMARY:Cloenda del curs de Cicle Formatiu de Grau Superior de Publicitat i Màrqueting en el món del vi
DTSTART;TZID=Europe/Madrid;VALUE=DATE-TIME:20170524T190000
DTEND;TZID=Europe/Madrid;VALUE=DATE-TIME:20170524T200000
DTSTAMP;VALUE=DATE-TIME:20260426T011002Z
UID:6a8b4a650fc9f09033c642b3741fdcb3
CREATED;VALUE=DATE-TIME:20170524T000000Z
CATEGORIES:Agenda institucional
LOCATION:Institut Alella
COMMENT:Durada: De 19 a 20.30h
URL:https://alella.cat/document.php?id=8159
END:VEVENT
END:VCALENDAR