BEGIN:VCALENDAR
VERSION:2.0
PRODID:-//Plone.org//NONSGML plone.app.event//EN
X-WR-TIMEZONE:Europe/Madrid
BEGIN:VEVENT
SUMMARY:Presentació del vídeo "Olor de Vinya d'Alella", rodat la passada Festa de la Verema
DTSTART;TZID=Europe/Madrid;VALUE=DATE-TIME:20170608T193000
DTEND;TZID=Europe/Madrid;VALUE=DATE-TIME:20170608T203000
DTSTAMP;VALUE=DATE-TIME:20260424T080008Z
UID:d71e94d70cc05a6556815cfc23538ba2
CREATED;VALUE=DATE-TIME:20170608T000000Z
CATEGORIES:Agenda institucional
LOCATION:Colònia Güell (Barcelona)
URL:https://alella.cat/document.php?id=8071
END:VEVENT
END:VCALENDAR