BEGIN:VCALENDAR
VERSION:2.0
PRODID:-//Plone.org//NONSGML plone.app.event//EN
X-WR-TIMEZONE:Europe/Madrid
BEGIN:VEVENT
SUMMARY:Consells d'alcaldes amb l'assistència de la Consellera de Treball, Afers Socials i Famílies, Dolors Bassa
DTSTART;TZID=Europe/Madrid;VALUE=DATE-TIME:20170329T110000
DTEND;TZID=Europe/Madrid;VALUE=DATE-TIME:20170329T120000
DTSTAMP;VALUE=DATE-TIME:20260421T164011Z
UID:275195247db582d5fc855899aa2bd82c
CREATED;VALUE=DATE-TIME:20170329T000000Z
CATEGORIES:Agenda institucional
LOCATION:Consell Comarcal del Maresme
URL:https://alella.cat/document.php?id=7973
END:VEVENT
END:VCALENDAR