BEGIN:VCALENDAR
VERSION:2.0
PRODID:-//Plone.org//NONSGML plone.app.event//EN
X-WR-TIMEZONE:Europe/Madrid
BEGIN:VEVENT
SUMMARY:Ple de l'Ajuntament
DTSTART;TZID=Europe/Madrid;VALUE=DATE-TIME:20170330T193000
DTEND;TZID=Europe/Madrid;VALUE=DATE-TIME:20170330T203000
DTSTAMP;VALUE=DATE-TIME:20260425T034847Z
UID:45b1b8a73f88d72950414a0030b9902f
CREATED;VALUE=DATE-TIME:20170330T000000Z
CATEGORIES:Agenda institucional
LOCATION:Sala de Plens de l'Ajuntament
URL:https://alella.cat/document.php?id=7836
END:VEVENT
END:VCALENDAR