BEGIN:VCALENDAR
VERSION:2.0
PRODID:-//Plone.org//NONSGML plone.app.event//EN
X-WR-TIMEZONE:Europe/Madrid
BEGIN:VEVENT
SUMMARY:Assistència a taller de tall de pernil
DTSTART;TZID=Europe/Madrid;VALUE=DATE-TIME:20170331T200000
DTEND;TZID=Europe/Madrid;VALUE=DATE-TIME:20170331T210000
DTSTAMP;VALUE=DATE-TIME:20260424T233712Z
UID:06e588e809457fff719105f579cb635f
CREATED;VALUE=DATE-TIME:20170331T000000Z
CATEGORIES:Agenda institucional
LOCATION:Celler de Can Magarola
URL:https://alella.cat/document.php?id=7834
END:VEVENT
END:VCALENDAR