BEGIN:VCALENDAR
VERSION:2.0
PRODID:-//Plone.org//NONSGML plone.app.event//EN
X-WR-TIMEZONE:Europe/Madrid
BEGIN:VEVENT
SUMMARY:2es Jornades d'Ocupació. Taller. Què pots canviar en la teva recerca de feina?
DTSTART;TZID=Europe/Madrid;VALUE=DATE-TIME:20161201T160000
DTEND;TZID=Europe/Madrid;VALUE=DATE-TIME:20161201T170000
DTSTAMP;VALUE=DATE-TIME:20260421T181142Z
UID:348b1511853d5eb48306bc08acc06b06
CREATED;VALUE=DATE-TIME:20161201T000000Z
CATEGORIES:
LOCATION:Centre Cultural de Can Lleonart - Plaça dels Germans Lleonart, 1 08328 Alella
ORGANIZER:Ajuntament d'Alella, El Masnou i Teià
URL:https://alella.cat/document.php?id=7429
END:VEVENT
END:VCALENDAR