BEGIN:VCALENDAR
VERSION:2.0
PRODID:-//Plone.org//NONSGML plone.app.event//EN
X-WR-TIMEZONE:Europe/Madrid
BEGIN:VEVENT
SUMMARY:Homenatge a una persona centenària d'Alella
DTSTART;TZID=Europe/Madrid;VALUE=DATE-TIME:20161102T120000
DTEND;TZID=Europe/Madrid;VALUE=DATE-TIME:20161102T130000
DTSTAMP;VALUE=DATE-TIME:20260421T164114Z
UID:f05db454d7e6ecb24c11b4c20897ac98
CREATED;VALUE=DATE-TIME:20161102T000000Z
CATEGORIES:Agenda institucional
URL:https://alella.cat/document.php?id=7306
END:VEVENT
END:VCALENDAR