BEGIN:VCALENDAR
VERSION:2.0
PRODID:-//Plone.org//NONSGML plone.app.event//EN
X-WR-TIMEZONE:Europe/Madrid
BEGIN:VEVENT
SUMMARY:Passejada guiada pel Parc de la Serralada Litoral. De la Cadira del Bisbe a Sant Mateu
DTSTART;TZID=Europe/Madrid;VALUE=DATE-TIME:20160904T093000
DTEND;TZID=Europe/Madrid;VALUE=DATE-TIME:20160904T103000
DTSTAMP;VALUE=DATE-TIME:20260424T011735Z
UID:83c474b992aeccc46aacfaa5a74c4322
CREATED;VALUE=DATE-TIME:20160904T000000Z
CATEGORIES:
LOCATION:Ajuntament de Vilassar de Dalt
ORGANIZER:Consorci del Parc de la Serralada Litoral
URL:https://alella.cat/document.php?id=7097
END:VEVENT
END:VCALENDAR