BEGIN:VCALENDAR
VERSION:2.0
PRODID:-//Plone.org//NONSGML plone.app.event//EN
X-WR-TIMEZONE:Europe/Madrid
BEGIN:VEVENT
SUMMARY:Ofici de casament
DTSTART;TZID=Europe/Madrid;VALUE=DATE-TIME:20161001T100000
DTEND;TZID=Europe/Madrid;VALUE=DATE-TIME:20161001T110000
DTSTAMP;VALUE=DATE-TIME:20260422T093704Z
UID:80f81213bc1ca35ec0d72da92320ad7f
CREATED;VALUE=DATE-TIME:20161001T000000Z
CATEGORIES:Agenda institucional
URL:https://alella.cat/document.php?id=7090
END:VEVENT
END:VCALENDAR