BEGIN:VCALENDAR
VERSION:2.0
PRODID:-//Plone.org//NONSGML plone.app.event//EN
X-WR-TIMEZONE:Europe/Madrid
BEGIN:VEVENT
SUMMARY:Despatx de presidència del Consorci de Promoció Enoturística del Territori DO Alella
DTSTART;TZID=Europe/Madrid;VALUE=DATE-TIME:20160907T081500
DTEND;TZID=Europe/Madrid;VALUE=DATE-TIME:20160907T091500
DTSTAMP;VALUE=DATE-TIME:20260424T121538Z
UID:bb772239cda252e09055b373a2e37fb0
CREATED;VALUE=DATE-TIME:20160907T000000Z
CATEGORIES:Agenda institucional
LOCATION:Seu del Consorci, Riera Fosca, 2
COMMENT:Durada: De 8.15 a 9.30h
URL:https://alella.cat/document.php?id=7072
END:VEVENT
END:VCALENDAR