BEGIN:VCALENDAR
VERSION:2.0
PRODID:-//Plone.org//NONSGML plone.app.event//EN
X-WR-TIMEZONE:Europe/Madrid
BEGIN:VEVENT
SUMMARY:Reunió de coordinació del govern
DTSTART;TZID=Europe/Madrid;VALUE=DATE-TIME:20161013T180000
DTEND;TZID=Europe/Madrid;VALUE=DATE-TIME:20161013T190000
DTSTAMP;VALUE=DATE-TIME:20260423T034437Z
UID:2aa053acd6f974fbf25d1403e0506e3e
CREATED;VALUE=DATE-TIME:20161013T000000Z
CATEGORIES:Agenda institucional
LOCATION:Sala de Juntes
URL:https://alella.cat/document.php?id=7049
END:VEVENT
END:VCALENDAR