BEGIN:VCALENDAR
VERSION:2.0
PRODID:-//Plone.org//NONSGML plone.app.event//EN
X-WR-TIMEZONE:Europe/Madrid
BEGIN:VEVENT
SUMMARY:Festa Major. Sortida amb la colla de Trabucaires del Vi d'Alella
DTSTART;TZID=Europe/Madrid;VALUE=DATE-TIME:20160801T230000
DTEND;TZID=Europe/Madrid;VALUE=DATE-TIME:20160802T000000
DTSTAMP;VALUE=DATE-TIME:20260425T140526Z
UID:b859041973fb2483a6425e7f98f64ee0
CREATED;VALUE=DATE-TIME:20160801T000000Z
CATEGORIES:
LOCATION:Plaça de l'Ajuntament
ORGANIZER:Associació Trabucaires del Vi d'Alella
URL:https://alella.cat/document.php?id=6978
END:VEVENT
END:VCALENDAR