BEGIN:VCALENDAR
VERSION:2.0
PRODID:-//Plone.org//NONSGML plone.app.event//EN
X-WR-TIMEZONE:Europe/Madrid
BEGIN:VEVENT
SUMMARY:Reunió de coordinació del govern
DTSTART;TZID=Europe/Madrid;VALUE=DATE-TIME:20160711T083000
DTEND;TZID=Europe/Madrid;VALUE=DATE-TIME:20160711T093000
DTSTAMP;VALUE=DATE-TIME:20260421T105449Z
UID:151db4f0e8dc7fcfabfaf9f75a14b95c
CREATED;VALUE=DATE-TIME:20160711T000000Z
CATEGORIES:Agenda institucional
LOCATION:Sala de Juntes
URL:https://alella.cat/document.php?id=6903
END:VEVENT
END:VCALENDAR