BEGIN:VCALENDAR
VERSION:2.0
PRODID:-//Plone.org//NONSGML plone.app.event//EN
X-WR-TIMEZONE:Europe/Madrid
BEGIN:VEVENT
SUMMARY:Audiència amb el President de la Generalitat
DTSTART;TZID=Europe/Madrid;VALUE=DATE-TIME:20160718T170000
DTEND;TZID=Europe/Madrid;VALUE=DATE-TIME:20160718T180000
DTSTAMP;VALUE=DATE-TIME:20260421T105418Z
UID:17ace31e79fe5c34893710c08c54d709
CREATED;VALUE=DATE-TIME:20160718T000000Z
CATEGORIES:Agenda institucional
LOCATION:Generalitat (Barcelona)
URL:https://alella.cat/document.php?id=6902
END:VEVENT
END:VCALENDAR