BEGIN:VCALENDAR
VERSION:2.0
PRODID:-//Plone.org//NONSGML plone.app.event//EN
X-WR-TIMEZONE:Europe/Madrid
BEGIN:VEVENT
SUMMARY:Reunió amb l'ADF Alella
DTSTART;TZID=Europe/Madrid;VALUE=DATE-TIME:20160706T170000
DTEND;TZID=Europe/Madrid;VALUE=DATE-TIME:20160706T180000
DTSTAMP;VALUE=DATE-TIME:20260426T023216Z
UID:ce17e23870822b976583c091f671ea78
CREATED;VALUE=DATE-TIME:20160706T000000Z
CATEGORIES:Agenda institucional
LOCATION:Despatx d'alcaldia
URL:https://alella.cat/document.php?id=6898
END:VEVENT
END:VCALENDAR